BEGIN:VCALENDAR
VERSION:2.0
PRODID:-//CBIS Events Karlshamn//SE
BEGIN:VEVENT
UID:cb1fe3ea43b8ef7af455f59088949b4e@karlshamn.se
DTSTAMP:20260422T200326
DTSTART:20260511T190000
DTEND:20260511T203000
SUMMARY:Mina drömmars land - filmvisning & samtal
DESCRIPTION:Fyra korta dokumentärer om ett Sverige i brytningstid.
LOCATION:Centrumbiografen
URL:https://gillakarlshamn.se/evenemang/mina-drommars-land-filmvisning-samtal-cbis2837433/?download_ical=1
END:VEVENT
END:VCALENDAR
