BEGIN:VCALENDAR
VERSION:2.0
PRODID:-//CBIS Events Karlshamn//SE
BEGIN:VEVENT
UID:fbe52a71f1e213ec6a72ed48c460e5af@karlshamn.se
DTSTAMP:20260422T195336
DTSTART:20260426T180000
DTEND:20260426T180000
SUMMARY:Mörrum Filmstudio visar Kindness of Strangers
DESCRIPTION:Mörrum Filmstudio visar filmer i Mörrumsparken.
LOCATION:Mörrumsparken
URL:https://gillakarlshamn.se/evenemang/morrum-filmstudio-visar-kindness-of-strangers-cbis2808230/?download_ical=1
END:VEVENT
END:VCALENDAR
